BEGIN:VCALENDAR
VERSION:2.0
PRODID:-//Squarespace Inc/Squarespace 6//v6//EN
BEGIN:VEVENT
UID:5d35379301c35900018602bb@squarespace.com
DTSTAMP:20191003T082803Z
DTSTART:20191031T201500Z
DTEND:20191101T023500Z
SUMMARY:New Directions in Dementia Care
GEO:-38.139165;176.257247
LOCATION:Sudima Rotorua\, 1000 Eruera Street\, Rotorua\, New Zealand
END:VEVENT
END:VCALENDAR
