BEGIN:VCALENDAR
VERSION:2.0
PRODID:-//Squarespace Inc/Squarespace 6//v6//EN
BEGIN:VEVENT
UID:5d95ae06b2c2e222918f8ccb@squarespace.com
DTSTAMP:20191003T082650Z
DTSTART:20191018T203000Z
DTEND:20191019T010000Z
SUMMARY:Grants 101 - Successful Grantseeking in Feilding
END:VEVENT
END:VCALENDAR
