BEGIN:VCALENDAR
VERSION:2.0
PRODID:-//Squarespace Inc/Squarespace 6//v6//EN
BEGIN:VEVENT
UID:5d95a425f14cb6013b0a0c55@squarespace.com
DTSTAMP:20191003T082749Z
DTSTART:20191017T210000Z
DTEND:20191018T013000Z
SUMMARY:Grants 101 - Successful Grantseeking in Whanganui
GEO:-39.934342;175.05333
LOCATION:Community House Whanganui\, 60 Ridgway Street\, Wanganui\, New Zea
 land 4500
END:VEVENT
END:VCALENDAR
