BEGIN:VCALENDAR
VERSION:2.0
PRODID:-//Squarespace Inc/Squarespace 6//v6//EN
BEGIN:VEVENT
UID:5d95a8602219ce5427592125@squarespace.com
DTSTAMP:20191003T082727Z
DTSTART:20191014T203000Z
DTEND:20191015T010000Z
SUMMARY:Grants 101 - Tips &amp\; Tricks for Funding Success - Hawera
GEO:-39.584552;174.275646
LOCATION:TSB Hub\, 17 Camberwell Road\, Hawera\, New Zealand 4610
END:VEVENT
END:VCALENDAR
