BEGIN:VCALENDAR
VERSION:2.0
PRODID:-//Squarespace Inc/Squarespace 6//v6//EN
BEGIN:VEVENT
UID:5d95ad141c644c6b2086fc63@squarespace.com
DTSTAMP:20191003T082703Z
DTSTART:20191009T203000Z
DTEND:20191010T010000Z
SUMMARY:Grants 101 - Tips &amp\; Tricks for Funding Success - New Plymouth
END:VEVENT
END:VCALENDAR
