BEGIN:VCALENDAR
VERSION:2.0
PRODID:-//Squarespace Inc/Squarespace 6//v6//EN
BEGIN:VEVENT
UID:5d95ab47f14cb6013b0a53fb@squarespace.com
DTSTAMP:20191003T082716Z
DTSTART:20191011T203000Z
DTEND:20191012T010000Z
SUMMARY:Grants 101 - Tips &amp\; Tricks for Funding Success - Stratford
END:VEVENT
END:VCALENDAR
