BEGIN:VCALENDAR
VERSION:2.0
PRODID:-//Squarespace Inc/Squarespace 6//v6//EN
BEGIN:VEVENT
UID:5d3541e8de51ea0001e7dc54@squarespace.com
DTSTAMP:20190722T050154Z
DTSTART:20190830T050000Z
DTEND:20190830T060000Z
SUMMARY:Nonprofit Learning Lab Institute
GEO:-38.11058;176.221909
LOCATION:Skyline Rotorua\, 178 Fairy Springs Rd\, Fairy Springs\, Rotorua 3
 015\, Rotorua\, New Zealand
END:VEVENT
END:VCALENDAR
