BEGIN:VCALENDAR
VERSION:2.0
PRODID:-//Squarespace Inc/Squarespace 6//v6//EN
BEGIN:VEVENT
UID:5d353a35a0d19600018f5c5d@squarespace.com
DTSTAMP:20190801T084718Z
DTSTART:20190814T213000Z
DTEND:20190816T050000Z
SUMMARY:Transform - 2019 TechSoup NZ Conference
GEO:-36.908606;174.845688
LOCATION:Waipuna Hotel & Conference Centre
END:VEVENT
END:VCALENDAR
