BEGIN:VCALENDAR
VERSION:2.0
PRODID:-//Squarespace Inc/Squarespace 6//v6//EN
BEGIN:VEVENT
UID:5d42a4e8ea7b710001ef6d87@squarespace.com
DTSTAMP:20190801T084349Z
DTSTART:20190816T000000Z
DTEND:20190816T020000Z
SUMMARY:The Best of Bequests (FINZ)
GEO:-36.888103;174.752167
LOCATION:Auckland Deaf Society\, Balmoral Road\, Auckland
END:VEVENT
END:VCALENDAR
